BEGIN:VCALENDAR
VERSION:2.0
PRODID:-//City of Morris - ECPv6.15.17.1//NONSGML v1.0//EN
CALSCALE:GREGORIAN
METHOD:PUBLISH
X-ORIGINAL-URL:https://www.morrismntourism.com
X-WR-CALDESC:Events for City of Morris
REFRESH-INTERVAL;VALUE=DURATION:PT1H
X-Robots-Tag:noindex
X-PUBLISHED-TTL:PT1H
BEGIN:VTIMEZONE
TZID:America/Chicago
BEGIN:DAYLIGHT
TZOFFSETFROM:-0600
TZOFFSETTO:-0500
TZNAME:CDT
DTSTART:20230312T080000
END:DAYLIGHT
BEGIN:STANDARD
TZOFFSETFROM:-0500
TZOFFSETTO:-0600
TZNAME:CST
DTSTART:20231105T070000
END:STANDARD
BEGIN:DAYLIGHT
TZOFFSETFROM:-0600
TZOFFSETTO:-0500
TZNAME:CDT
DTSTART:20240310T080000
END:DAYLIGHT
BEGIN:STANDARD
TZOFFSETFROM:-0500
TZOFFSETTO:-0600
TZNAME:CST
DTSTART:20241103T070000
END:STANDARD
BEGIN:DAYLIGHT
TZOFFSETFROM:-0600
TZOFFSETTO:-0500
TZNAME:CDT
DTSTART:20250309T080000
END:DAYLIGHT
BEGIN:STANDARD
TZOFFSETFROM:-0500
TZOFFSETTO:-0600
TZNAME:CST
DTSTART:20251102T070000
END:STANDARD
END:VTIMEZONE
BEGIN:VEVENT
DTSTART;TZID=America/Chicago:20240308T183000
DTEND;TZID=America/Chicago:20240308T220000
DTSTAMP:20260421T034619
CREATED:20240219T210555Z
LAST-MODIFIED:20240220T193714Z
UID:10000344-1709922600-1709935200@www.morrismntourism.com
SUMMARY:March 8 | 6:30 pm | Comedy Night | John DeBoer
DESCRIPTION:Comedy Night with john DeBoer\nGood food. Good laughs. Good company!\nJohn DeBoer is a seasoned comedian who embraces his mistakes and turns them into hilarious anecdotes. His daring and relatable comedy delves into the mischievous aspects of childhood and the ongoing pressures of modern life. John’s ability to extract humor from his own blunders and observations has earned him a reputation as an incredibly talented act\, leaving audiences laughing at their own mishaps and allowing them to see the humor in situations they may have previously overlooked. With appearances at renowned comedy venues\, colleges\, and even federal penitentiaries\, John DeBoer is undoubtedly one of the funniest comedians you may not have discovered yet. \nTickets \nShow-Only: $15 \nDinner & Show: $40 \nMake your reservation by calling 320-589-2270
URL:https://www.morrismntourism.com/event/comedy-night-john-deboer/
LOCATION:Old No. 1 Bar & Grill\, 412 Atlantic Ave\, Morris\, MN\, 56267\, United States
CATEGORIES:2024
ATTACH;FMTTYPE=image/png:https://www.morrismntourism.com/wp-content/uploads/Untitled-design-2024-02-19T150118.146.png
END:VEVENT
END:VCALENDAR