BEGIN:VCALENDAR
VERSION:2.0
PRODID:-//City of Morris - ECPv6.15.17.1//NONSGML v1.0//EN
CALSCALE:GREGORIAN
METHOD:PUBLISH
X-ORIGINAL-URL:https://www.morrismntourism.com
X-WR-CALDESC:Events for City of Morris
REFRESH-INTERVAL;VALUE=DURATION:PT1H
X-Robots-Tag:noindex
X-PUBLISHED-TTL:PT1H
BEGIN:VTIMEZONE
TZID:America/Chicago
BEGIN:DAYLIGHT
TZOFFSETFROM:-0600
TZOFFSETTO:-0500
TZNAME:CDT
DTSTART:20230312T080000
END:DAYLIGHT
BEGIN:STANDARD
TZOFFSETFROM:-0500
TZOFFSETTO:-0600
TZNAME:CST
DTSTART:20231105T070000
END:STANDARD
BEGIN:DAYLIGHT
TZOFFSETFROM:-0600
TZOFFSETTO:-0500
TZNAME:CDT
DTSTART:20240310T080000
END:DAYLIGHT
BEGIN:STANDARD
TZOFFSETFROM:-0500
TZOFFSETTO:-0600
TZNAME:CST
DTSTART:20241103T070000
END:STANDARD
BEGIN:DAYLIGHT
TZOFFSETFROM:-0600
TZOFFSETTO:-0500
TZNAME:CDT
DTSTART:20250309T080000
END:DAYLIGHT
BEGIN:STANDARD
TZOFFSETFROM:-0500
TZOFFSETTO:-0600
TZNAME:CST
DTSTART:20251102T070000
END:STANDARD
END:VTIMEZONE
BEGIN:VEVENT
DTSTART;TZID=America/Chicago:20240515T113000
DTEND;TZID=America/Chicago:20240515T133000
DTSTAMP:20260421T034618
CREATED:20240506T201742Z
LAST-MODIFIED:20240506T201816Z
UID:10000362-1715772600-1715779800@www.morrismntourism.com
SUMMARY:May 15 | 11:30 am-1:30 pm Heartland Motor Customer Appreciation Grill Out
DESCRIPTION:Free lunch at Heartland Motor\nHeartland Motor is teaming up with the West Central Cattleman’s Association to serve a mouthwatering free burger lunch. And what’s a party without sweets? MiniWaska Donuts will be on hand to keep those bottomless mini donuts coming! We’re also bidding a fond farewell to Lynn as he embarks on more fishing adventures and less work. \nSwing by with the kids for a fun-filled lunch from 11:30 AM to 1:30 PM after their early school out. \nDon’t miss out on this delightful gathering!
URL:https://www.morrismntourism.com/event/5-15-1130-am-130-pm-heartland-motor-customer-appreciation-grill-out/
LOCATION:Hertland Motor\, 1 MN-28\, Morris\, MN\, 56267\, United States
CATEGORIES:2024
ATTACH;FMTTYPE=image/png:https://www.morrismntourism.com/wp-content/uploads/Untitled-design-10-1.png
END:VEVENT
BEGIN:VEVENT
DTSTART;TZID=America/Chicago:20240515T171500
DTEND;TZID=America/Chicago:20240515T180000
DTSTAMP:20260421T034618
CREATED:20240402T211042Z
LAST-MODIFIED:20240402T211042Z
UID:10000358-1715793300-1715796000@www.morrismntourism.com
SUMMARY:May 15 | 5:15 pm | Community Hike
DESCRIPTION:Gather your walking shoes and your sense of adventure for a community hike event right here in Morris\, MN!\nWe’re inviting folks of all ages to join us for a refreshing journey into nature. Our meeting point? The parking lot by the Wetland Management Building \, where we’ll rally before setting off on our trek through the picturesque Wetland Management District. Whether you’re a seasoned hiker or just looking to enjoy some fresh air and camaraderie\, this event promises a fantastic opportunity to explore the great outdoors\, spot some local wildlife\, and make new friends. \nSo\, mark your calendars and bring your family\, friends\, and neighbors along for a memorable hike that celebrates the beauty of our community’s natural landscape. Let’s hit the trails together and enjoy a day of exploration and fun!
URL:https://www.morrismntourism.com/event/may-15-515-pm-community-hike/
LOCATION:Wetland Management District\, 43875\, 230th St\, MN\, 56267\, United States
CATEGORIES:2024
ATTACH;FMTTYPE=image/jpeg:https://www.morrismntourism.com/wp-content/uploads/IMG_9824-scaled.jpg
END:VEVENT
END:VCALENDAR