BEGIN:VCALENDAR
VERSION:2.0
PRODID:-//City of Morris - ECPv6.15.17.1//NONSGML v1.0//EN
CALSCALE:GREGORIAN
METHOD:PUBLISH
X-WR-CALNAME:City of Morris
X-ORIGINAL-URL:https://www.morrismntourism.com
X-WR-CALDESC:Events for City of Morris
REFRESH-INTERVAL;VALUE=DURATION:PT1H
X-Robots-Tag:noindex
X-PUBLISHED-TTL:PT1H
BEGIN:VTIMEZONE
TZID:America/Chicago
BEGIN:DAYLIGHT
TZOFFSETFROM:-0600
TZOFFSETTO:-0500
TZNAME:CDT
DTSTART:20230312T080000
END:DAYLIGHT
BEGIN:STANDARD
TZOFFSETFROM:-0500
TZOFFSETTO:-0600
TZNAME:CST
DTSTART:20231105T070000
END:STANDARD
BEGIN:DAYLIGHT
TZOFFSETFROM:-0600
TZOFFSETTO:-0500
TZNAME:CDT
DTSTART:20240310T080000
END:DAYLIGHT
BEGIN:STANDARD
TZOFFSETFROM:-0500
TZOFFSETTO:-0600
TZNAME:CST
DTSTART:20241103T070000
END:STANDARD
BEGIN:DAYLIGHT
TZOFFSETFROM:-0600
TZOFFSETTO:-0500
TZNAME:CDT
DTSTART:20250309T080000
END:DAYLIGHT
BEGIN:STANDARD
TZOFFSETFROM:-0500
TZOFFSETTO:-0600
TZNAME:CST
DTSTART:20251102T070000
END:STANDARD
END:VTIMEZONE
BEGIN:VEVENT
DTSTART;TZID=America/Chicago:20240531T160000
DTEND;TZID=America/Chicago:20240531T193000
DTSTAMP:20260421T121844
CREATED:20240402T205549Z
LAST-MODIFIED:20240402T205549Z
UID:10000356-1717171200-1717183800@www.morrismntourism.com
SUMMARY:May 31 | 4 pm | Chaos Motorsports Expo
DESCRIPTION:Rev up your engines and prepare for a day of high-octane excitement at the 2024 Chaos Motorsports Expo!\nThis family-friendly event promises a thrilling lineup of activities\, including an array of parts vendors\, awe-inspiring derby builds\, and a silent auction filled with unique finds. Whether you’re a hardcore motorsport enthusiast or just looking for a fun day out with the family\, the Chaos Motorsports Expo has something for everyone. And the best part? Admission is absolutely free! Dive into the world of motorsports\, explore the latest in automotive innovation\, and maybe even find that rare part you’ve been searching for. Don’t miss out on this dynamic showcase of speed\, creativity\, and community spirit.
URL:https://www.morrismntourism.com/event/may-31-4-pm-chaos-motorsports-expo/
LOCATION:Lee Community Center\, 101 Co Rd 22\, Morris\, MN\, 56267\, United States
CATEGORIES:2024
ATTACH;FMTTYPE=image/png:https://www.morrismntourism.com/wp-content/uploads/Spring-String-Thing-3.png
END:VEVENT
BEGIN:VEVENT
DTSTART;TZID=America/Chicago:20240531T170000
DTEND;TZID=America/Chicago:20240531T183000
DTSTAMP:20260421T121844
CREATED:20240515T162011Z
LAST-MODIFIED:20240515T162011Z
UID:10000365-1717174800-1717180200@www.morrismntourism.com
SUMMARY:May 31 | 5 pm Kids Pinewood Derby
DESCRIPTION:The Pinewood Derby for kids is an exciting event open to boys and girls from 1st through 5th grade\, offering a fantastic opportunity to showcase their creativity and racing skills. Car kits will be available for purchase\, allowing young participants to design and build their own unique race cars. This thrilling competition will take place during the Chaos Motorsports Expo\, adding an extra layer of excitement to the event. Join us for a fun-filled day of racing\, engineering\, and friendly competition\, as kids experience the joy of creating and racing their very own Pinewood Derby cars.
URL:https://www.morrismntourism.com/event/may-31-5-pm-kids-pinewood-derby/
LOCATION:Lee Community Center\, 101 Co Rd 22\, Morris\, MN\, 56267\, United States
CATEGORIES:2024
ATTACH;FMTTYPE=image/jpeg:https://www.morrismntourism.com/wp-content/uploads/437659749_10168510238270481_7777173057397505047_n.jpg
END:VEVENT
END:VCALENDAR