BEGIN:VCALENDAR
VERSION:2.0
PRODID:-//City of Morris - ECPv6.15.17.1//NONSGML v1.0//EN
CALSCALE:GREGORIAN
METHOD:PUBLISH
X-WR-CALNAME:City of Morris
X-ORIGINAL-URL:https://www.morrismntourism.com
X-WR-CALDESC:Events for City of Morris
REFRESH-INTERVAL;VALUE=DURATION:PT1H
X-Robots-Tag:noindex
X-PUBLISHED-TTL:PT1H
BEGIN:VTIMEZONE
TZID:America/Chicago
BEGIN:DAYLIGHT
TZOFFSETFROM:-0600
TZOFFSETTO:-0500
TZNAME:CDT
DTSTART:20230312T080000
END:DAYLIGHT
BEGIN:STANDARD
TZOFFSETFROM:-0500
TZOFFSETTO:-0600
TZNAME:CST
DTSTART:20231105T070000
END:STANDARD
BEGIN:DAYLIGHT
TZOFFSETFROM:-0600
TZOFFSETTO:-0500
TZNAME:CDT
DTSTART:20240310T080000
END:DAYLIGHT
BEGIN:STANDARD
TZOFFSETFROM:-0500
TZOFFSETTO:-0600
TZNAME:CST
DTSTART:20241103T070000
END:STANDARD
BEGIN:DAYLIGHT
TZOFFSETFROM:-0600
TZOFFSETTO:-0500
TZNAME:CDT
DTSTART:20250309T080000
END:DAYLIGHT
BEGIN:STANDARD
TZOFFSETFROM:-0500
TZOFFSETTO:-0600
TZNAME:CST
DTSTART:20251102T070000
END:STANDARD
END:VTIMEZONE
BEGIN:VEVENT
DTSTART;TZID=America/Chicago:20240731T080000
DTEND;TZID=America/Chicago:20240731T200000
DTSTAMP:20260421T190930
CREATED:20240411T174842Z
LAST-MODIFIED:20240618T132703Z
UID:10000361-1722412800-1722456000@www.morrismntourism.com
SUMMARY:July 31 | Crazy Days | Lazy Nights
DESCRIPTION:Mark your calendars for a day (and evening) of shopping\, food and fun in Morris!\n\n\n\n\nGet ready for Crazy Days Lazy Nights in Morris\, MN\, on July 31\, 2024! This all-day event kicks off at 7 AM with crazy retail sales throughout town. From 10 AM to 1 PM\, join the Medallion Hunt and Coin Dig\, and enjoy kids’ crafts and tables. The food court opens from 11 AM to 2 PM with food trucks on 6th St. At 2 PM\, catch a free movie at Morris Theater. The fun continues from 5 PM to 7 PM at East Side Park with live music\, food trucks\, and kids’ activities\, followed by Minute to Win It games at 6 PM. Don’t miss out on the excitement!
URL:https://www.morrismntourism.com/event/july-31-crazy-days-lazy-nights/
LOCATION:MN
CATEGORIES:2024
ATTACH;FMTTYPE=image/png:https://www.morrismntourism.com/wp-content/uploads/Screenshot-2024-06-18-at-8.24.35 AM.png
END:VEVENT
END:VCALENDAR