BEGIN:VCALENDAR
VERSION:2.0
PRODID:-//City of Morris - ECPv6.15.17.1//NONSGML v1.0//EN
CALSCALE:GREGORIAN
METHOD:PUBLISH
X-ORIGINAL-URL:https://www.morrismntourism.com
X-WR-CALDESC:Events for City of Morris
REFRESH-INTERVAL;VALUE=DURATION:PT1H
X-Robots-Tag:noindex
X-PUBLISHED-TTL:PT1H
BEGIN:VTIMEZONE
TZID:America/Chicago
BEGIN:DAYLIGHT
TZOFFSETFROM:-0600
TZOFFSETTO:-0500
TZNAME:CDT
DTSTART:20240310T080000
END:DAYLIGHT
BEGIN:STANDARD
TZOFFSETFROM:-0500
TZOFFSETTO:-0600
TZNAME:CST
DTSTART:20241103T070000
END:STANDARD
BEGIN:DAYLIGHT
TZOFFSETFROM:-0600
TZOFFSETTO:-0500
TZNAME:CDT
DTSTART:20250309T080000
END:DAYLIGHT
BEGIN:STANDARD
TZOFFSETFROM:-0500
TZOFFSETTO:-0600
TZNAME:CST
DTSTART:20251102T070000
END:STANDARD
BEGIN:DAYLIGHT
TZOFFSETFROM:-0600
TZOFFSETTO:-0500
TZNAME:CDT
DTSTART:20260308T080000
END:DAYLIGHT
BEGIN:STANDARD
TZOFFSETFROM:-0500
TZOFFSETTO:-0600
TZNAME:CST
DTSTART:20261101T070000
END:STANDARD
END:VTIMEZONE
BEGIN:VEVENT
DTSTART;TZID=America/Chicago:20250920T093000
DTEND;TZID=America/Chicago:20250920T183000
DTSTAMP:20260419T085544
CREATED:20250717T161323Z
LAST-MODIFIED:20250812T204532Z
UID:10000465-1758360600-1758393000@www.morrismntourism.com
SUMMARY:Sept. 20 | MBA Storm Hockey Golf Outing
DESCRIPTION:Tee Off for a Good Cause at the 1st Annual MBA Storm Golf Outing\nJoin the Morris Storm Hockey Association for their 1st Annual Golf Outing on Saturday\, August 2\, 2025\, at Pomme de Terre Golf Club in Morris\, MN. Whether you’re a seasoned golfer or just in it for the fun\, this 4-person scramble offers a great day on the green while supporting local youth hockey. With sponsorship opportunities\, friendly competition\, prizes\, and post-round food\, it’s a great way to give back and enjoy the summer. \nEvent at a Glance:\n\nSept. 20 | 9:30 am\nLocation: Pomme De Terre Golf Course\, Morris\, MN\nTeam Entry: $300 per 4-person team\nRegistration Begins: 9:30 AM\nShotgun Start: 11:00 AM\nLunch: 12:00–1:30 PM (provided by The Fireside)\nAwards\, Happy Hour & Dinner: 3:00–5:00 PM (dinner also by The Fireside)\nExtras: Prizes • Games • Silent Auction • Hole-in-One Wins a Car \n\nWhether you’re coming for the competition\, the camaraderie\, or the chance to win a car\, now’s the time to secure your team’s spot in this exciting new tradition. \n\n✅ Register here\nLearn more about the event
URL:https://www.morrismntourism.com/event/aug-2-mba-storm-hockey-golf-outing/
LOCATION:Pomme de Terre Golf Club\, 24860 State Hwy 9\, Morris\, MN\, 56267\, United States
CATEGORIES:2025
ATTACH;FMTTYPE=image/png:https://www.morrismntourism.com/wp-content/uploads/Ad-3-1x1-1-1.png
END:VEVENT
BEGIN:VEVENT
DTSTART;VALUE=DATE:20250926
DTEND;VALUE=DATE:20250930
DTSTAMP:20260419T085544
CREATED:20250717T170029Z
LAST-MODIFIED:20250903T175219Z
UID:10000467-1758844800-1759190399@www.morrismntourism.com
SUMMARY:Sept. 26 | Prairie Harvest Fest
DESCRIPTION:Get ready for a bushel of fun at Prairie Harvest Fest\, Sept 26–28 in Morris! \nFrom parades and food trucks to classic cars\, crafts\, and a demolition derby that’ll shake the prairie—this weekend is packed with small-town charm and big-time fun. Free admission\, free parking\, and memories made by the wagonload. Don’t miss Morris’s most festive fall tradition! 🍁🚜
URL:https://www.morrismntourism.com/event/sept-26-prairie-harvest-fest/
LOCATION:Stevens County Fair Grounds
CATEGORIES:2025
ATTACH;FMTTYPE=image/png:https://www.morrismntourism.com/wp-content/uploads/Morris-PHF-Ad-1-4-2.png
END:VEVENT
END:VCALENDAR