BEGIN:VCALENDAR
VERSION:2.0
PRODID:-//City of Morris - ECPv6.15.17.1//NONSGML v1.0//EN
CALSCALE:GREGORIAN
METHOD:PUBLISH
X-WR-CALNAME:City of Morris
X-ORIGINAL-URL:https://www.morrismntourism.com
X-WR-CALDESC:Events for City of Morris
REFRESH-INTERVAL;VALUE=DURATION:PT1H
X-Robots-Tag:noindex
X-PUBLISHED-TTL:PT1H
BEGIN:VTIMEZONE
TZID:America/Chicago
BEGIN:DAYLIGHT
TZOFFSETFROM:-0600
TZOFFSETTO:-0500
TZNAME:CDT
DTSTART:20190310T080000
END:DAYLIGHT
BEGIN:STANDARD
TZOFFSETFROM:-0500
TZOFFSETTO:-0600
TZNAME:CST
DTSTART:20191103T070000
END:STANDARD
BEGIN:DAYLIGHT
TZOFFSETFROM:-0600
TZOFFSETTO:-0500
TZNAME:CDT
DTSTART:20200308T080000
END:DAYLIGHT
BEGIN:STANDARD
TZOFFSETFROM:-0500
TZOFFSETTO:-0600
TZNAME:CST
DTSTART:20201101T070000
END:STANDARD
BEGIN:DAYLIGHT
TZOFFSETFROM:-0600
TZOFFSETTO:-0500
TZNAME:CDT
DTSTART:20210314T080000
END:DAYLIGHT
BEGIN:STANDARD
TZOFFSETFROM:-0500
TZOFFSETTO:-0600
TZNAME:CST
DTSTART:20211107T070000
END:STANDARD
END:VTIMEZONE
BEGIN:VEVENT
DTSTART;TZID=America/Chicago:20201119T130000
DTEND;TZID=America/Chicago:20201119T160000
DTSTAMP:20260419T135645
CREATED:20201007T023554Z
LAST-MODIFIED:20201007T023554Z
UID:10000170-1605790800-1605801600@www.morrismntourism.com
SUMMARY:Parade of Lights
DESCRIPTION:
URL:https://www.morrismntourism.com/event/parade-of-lights/
LOCATION:Down Town\, Atlantic Avenue\, Morris\, MN\, 56267\, United States
END:VEVENT
BEGIN:VEVENT
DTSTART;VALUE=DATE:20201021
DTEND;VALUE=DATE:20201023
DTSTAMP:20260419T135645
CREATED:20201007T023410Z
LAST-MODIFIED:20201007T023410Z
UID:10000169-1603306800-1603393199@www.morrismntourism.com
SUMMARY:Moonlight Madness
DESCRIPTION:
URL:https://www.morrismntourism.com/event/moonlight-madness/
LOCATION:Down Town\, Atlantic Avenue\, Morris\, MN\, 56267\, United States
END:VEVENT
BEGIN:VEVENT
DTSTART;VALUE=DATE:20200925
DTEND;VALUE=DATE:20200926
DTSTAMP:20260419T135645
CREATED:20200907T054540Z
LAST-MODIFIED:20200907T054540Z
UID:10000168-1601060400-1601060400@www.morrismntourism.com
SUMMARY:MN Duck Opener
DESCRIPTION:The MN duck hunting season 1 for the central zone starts 9-26-20 and runs 10-4-20
URL:https://www.morrismntourism.com/event/mn-duck-opener/
END:VEVENT
BEGIN:VEVENT
DTSTART;VALUE=DATE:20200918
DTEND;VALUE=DATE:20200920
DTSTAMP:20260419T135645
CREATED:20200907T053942Z
LAST-MODIFIED:20200907T053942Z
UID:10000166-1600455600-1600541999@www.morrismntourism.com
SUMMARY:Deer Archery Opener
DESCRIPTION:
URL:https://www.morrismntourism.com/event/deer-archery-opener/
END:VEVENT
BEGIN:VEVENT
DTSTART;VALUE=DATE:20200911
DTEND;VALUE=DATE:20200914
DTSTAMP:20260419T135645
CREATED:20200907T053139Z
LAST-MODIFIED:20200907T053139Z
UID:10000165-1599850800-1600023599@www.morrismntourism.com
SUMMARY:Youth Waterfowl Hunt
DESCRIPTION:
URL:https://www.morrismntourism.com/event/youth-waterfowl-hunt/
END:VEVENT
BEGIN:VEVENT
DTSTART;VALUE=DATE:20200904
DTEND;VALUE=DATE:20200908
DTSTAMP:20260419T135645
CREATED:20200907T054143Z
LAST-MODIFIED:20200907T054143Z
UID:10000167-1599246000-1599505199@www.morrismntourism.com
SUMMARY:Early Canadian Goose Opener
DESCRIPTION:The MN early Canadian goose season runs 9-5-20 to 9-20-20.  Check MN DNR regulations for rules.
URL:https://www.morrismntourism.com/event/early-canadian-goose-opener/
END:VEVENT
BEGIN:VEVENT
DTSTART;VALUE=DATE:20200605
DTEND;VALUE=DATE:20200607
DTSTAMP:20260419T135645
CREATED:20200228T044011Z
LAST-MODIFIED:20200228T044011Z
UID:10000164-1591383600-1591469999@www.morrismntourism.com
SUMMARY:Muskie Opener
DESCRIPTION:
URL:https://www.morrismntourism.com/event/muskie-opener/
END:VEVENT
BEGIN:VEVENT
DTSTART;VALUE=DATE:20200508
DTEND;VALUE=DATE:20200510
DTSTAMP:20260419T135645
CREATED:20200221T191750Z
LAST-MODIFIED:20200221T191750Z
UID:10000160-1588964400-1589050799@www.morrismntourism.com
SUMMARY:Minnesota Fishing Opener
DESCRIPTION:
URL:https://www.morrismntourism.com/event/minnesota-fishing-opener/
END:VEVENT
BEGIN:VEVENT
DTSTART;VALUE=DATE:20200417
DTEND;VALUE=DATE:20200419
DTSTAMP:20260419T135645
CREATED:20200228T041709Z
LAST-MODIFIED:20200228T041709Z
UID:10000163-1587150000-1587236399@www.morrismntourism.com
SUMMARY:Minnesota Trout Opener
DESCRIPTION:
URL:https://www.morrismntourism.com/event/minnesota-trout-opener/
END:VEVENT
BEGIN:VEVENT
DTSTART;TZID=America/Chicago:20200314T040000
DTEND;TZID=America/Chicago:20200314T110000
DTSTAMP:20260419T135645
CREATED:20200228T041025Z
LAST-MODIFIED:20200228T041025Z
UID:10000162-1584158400-1584183600@www.morrismntourism.com
SUMMARY:KMRS/KKOK Spring Expo
DESCRIPTION:
URL:https://www.morrismntourism.com/event/kmrs-kkok-spring-expo-2/
LOCATION:Lee Center\, 101 County Rd 22\, Morris\, MN\, 56267\, United States
END:VEVENT
BEGIN:VEVENT
DTSTART;TZID=America/Chicago:20200313T060000
DTEND;TZID=America/Chicago:20200313T140000
DTSTAMP:20260419T135645
CREATED:20200228T034706Z
LAST-MODIFIED:20200228T034706Z
UID:10000161-1584079200-1584108000@www.morrismntourism.com
SUMMARY:KMRS/KKOK Spring Expo
DESCRIPTION:
URL:https://www.morrismntourism.com/event/kmrs-kkok-spring-expo/
END:VEVENT
BEGIN:VEVENT
DTSTART;VALUE=DATE:20200221
DTEND;VALUE=DATE:20200223
DTSTAMP:20260419T135645
CREATED:20200221T190751Z
LAST-MODIFIED:20200221T190751Z
UID:10000159-1582308000-1582394399@www.morrismntourism.com
SUMMARY:Pheasants Forever Banquet
DESCRIPTION:
URL:https://www.morrismntourism.com/event/pheasants-forever-banquet/
LOCATION:Old No. !
END:VEVENT
END:VCALENDAR