BEGIN:VCALENDAR
VERSION:2.0
PRODID:-//City of Morris - ECPv6.15.17.1//NONSGML v1.0//EN
CALSCALE:GREGORIAN
METHOD:PUBLISH
X-WR-CALNAME:City of Morris
X-ORIGINAL-URL:https://www.morrismntourism.com
X-WR-CALDESC:Events for City of Morris
REFRESH-INTERVAL;VALUE=DURATION:PT1H
X-Robots-Tag:noindex
X-PUBLISHED-TTL:PT1H
BEGIN:VTIMEZONE
TZID:America/Chicago
BEGIN:DAYLIGHT
TZOFFSETFROM:-0600
TZOFFSETTO:-0500
TZNAME:CDT
DTSTART:20230312T080000
END:DAYLIGHT
BEGIN:STANDARD
TZOFFSETFROM:-0500
TZOFFSETTO:-0600
TZNAME:CST
DTSTART:20231105T070000
END:STANDARD
BEGIN:DAYLIGHT
TZOFFSETFROM:-0600
TZOFFSETTO:-0500
TZNAME:CDT
DTSTART:20240310T080000
END:DAYLIGHT
BEGIN:STANDARD
TZOFFSETFROM:-0500
TZOFFSETTO:-0600
TZNAME:CST
DTSTART:20241103T070000
END:STANDARD
BEGIN:DAYLIGHT
TZOFFSETFROM:-0600
TZOFFSETTO:-0500
TZNAME:CDT
DTSTART:20250309T080000
END:DAYLIGHT
BEGIN:STANDARD
TZOFFSETFROM:-0500
TZOFFSETTO:-0600
TZNAME:CST
DTSTART:20251102T070000
END:STANDARD
END:VTIMEZONE
BEGIN:VEVENT
DTSTART;TZID=America/Chicago:20240704T103000
DTEND;TZID=America/Chicago:20240704T111500
DTSTAMP:20260421T171114
CREATED:20240529T160326Z
LAST-MODIFIED:20240529T160326Z
UID:10000377-1720089000-1720091700@www.morrismntourism.com
SUMMARY:10:30 am | Weekly Storytime on the Lawn
DESCRIPTION:Join us every Thursday at 10:30 AM for Weekly Story Time on the library lawn! Bring your lawn chairs or blankets and enjoy enchanting stories read by community members like the Girl Scouts\, Miss Morris Area Teen Anna Jordan\, Sandy from Open Prairie Alpacas\, the Odellos\, Bus Driver Syd\, and Mike Peterson from St. John’s Abbey with his flutes. It’s a delightful morning for all ages to enjoy stories and community spirit!
URL:https://www.morrismntourism.com/event/1030-am-weekly-storytime-on-the-lawn/2024-07-04/
LOCATION:Morris Public Library\, 102 E 6th St\, Morris\, MN\, 56267\, United States
CATEGORIES:2024
ATTACH;FMTTYPE=image/jpeg:https://www.morrismntourism.com/wp-content/uploads/444151314_866510748842795_4873132500077089525_n.jpg
END:VEVENT
BEGIN:VEVENT
DTSTART;TZID=America/Chicago:20240711T103000
DTEND;TZID=America/Chicago:20240711T111500
DTSTAMP:20260421T171114
CREATED:20240529T160326Z
LAST-MODIFIED:20240529T160326Z
UID:10000378-1720693800-1720696500@www.morrismntourism.com
SUMMARY:10:30 am | Weekly Storytime on the Lawn
DESCRIPTION:Join us every Thursday at 10:30 AM for Weekly Story Time on the library lawn! Bring your lawn chairs or blankets and enjoy enchanting stories read by community members like the Girl Scouts\, Miss Morris Area Teen Anna Jordan\, Sandy from Open Prairie Alpacas\, the Odellos\, Bus Driver Syd\, and Mike Peterson from St. John’s Abbey with his flutes. It’s a delightful morning for all ages to enjoy stories and community spirit!
URL:https://www.morrismntourism.com/event/1030-am-weekly-storytime-on-the-lawn/2024-07-11/
LOCATION:Morris Public Library\, 102 E 6th St\, Morris\, MN\, 56267\, United States
CATEGORIES:2024
ATTACH;FMTTYPE=image/jpeg:https://www.morrismntourism.com/wp-content/uploads/444151314_866510748842795_4873132500077089525_n.jpg
END:VEVENT
BEGIN:VEVENT
DTSTART;TZID=America/Chicago:20240712T130000
DTEND;TZID=America/Chicago:20240712T150000
DTSTAMP:20260421T171114
CREATED:20240606T194410Z
LAST-MODIFIED:20240606T194410Z
UID:10000383-1720789200-1720796400@www.morrismntourism.com
SUMMARY:Family Movie Matinees
DESCRIPTION:Join us for family-friendly movie afternoons at the Morris Public Library!\nOn select Fridays—June 7th\, 21st\, and July 12th\, 26th—from 1 to 3 pm\, enjoy G or PG-rated films suitable for all ages. Popcorn and drinks are on us\, thanks to The Friends of the Morris Public Library. Call or check our website for movie titles. Don’t miss out on these fun-filled Fridays!
URL:https://www.morrismntourism.com/event/family-movie-matinees/2024-07-12/
LOCATION:Morris Public Library\, 102 E 6th St\, Morris\, MN\, 56267\, United States
CATEGORIES:2024
ATTACH;FMTTYPE=image/png:https://www.morrismntourism.com/wp-content/uploads/Untitled-design-11.png
END:VEVENT
BEGIN:VEVENT
DTSTART;TZID=America/Chicago:20240717T173000
DTEND;TZID=America/Chicago:20240717T183000
DTSTAMP:20260421T171114
CREATED:20240529T155624Z
LAST-MODIFIED:20240529T155624Z
UID:10000371-1721237400-1721241000@www.morrismntourism.com
SUMMARY:July 17 | 5:30 pm Community Kayak
DESCRIPTION:Join us for a delightful evening of kayaking at Pomme de Terre Lake! Bring your kiddos and enjoy a fun-filled adventure on the water. Kayaks will be provided\, and we’ll meet by the dog park. It’s a perfect opportunity for family bonding\, laughter\, and making wonderful memories together. Don’t miss this exciting community event!
URL:https://www.morrismntourism.com/event/july-17-530-pm-community-kayak/
LOCATION:Pomme de Terre Park\, Morris\, ND\, United States
CATEGORIES:2024
ATTACH;FMTTYPE=image/jpeg:https://www.morrismntourism.com/wp-content/uploads/432930558_907430404514324_597344002789329075_n.jpg
END:VEVENT
BEGIN:VEVENT
DTSTART;TZID=America/Chicago:20240718T103000
DTEND;TZID=America/Chicago:20240718T111500
DTSTAMP:20260421T171114
CREATED:20240529T160326Z
LAST-MODIFIED:20240529T160326Z
UID:10000379-1721298600-1721301300@www.morrismntourism.com
SUMMARY:10:30 am | Weekly Storytime on the Lawn
DESCRIPTION:Join us every Thursday at 10:30 AM for Weekly Story Time on the library lawn! Bring your lawn chairs or blankets and enjoy enchanting stories read by community members like the Girl Scouts\, Miss Morris Area Teen Anna Jordan\, Sandy from Open Prairie Alpacas\, the Odellos\, Bus Driver Syd\, and Mike Peterson from St. John’s Abbey with his flutes. It’s a delightful morning for all ages to enjoy stories and community spirit!
URL:https://www.morrismntourism.com/event/1030-am-weekly-storytime-on-the-lawn/2024-07-18/
LOCATION:Morris Public Library\, 102 E 6th St\, Morris\, MN\, 56267\, United States
CATEGORIES:2024
ATTACH;FMTTYPE=image/jpeg:https://www.morrismntourism.com/wp-content/uploads/444151314_866510748842795_4873132500077089525_n.jpg
END:VEVENT
BEGIN:VEVENT
DTSTART;TZID=America/Chicago:20240725T103000
DTEND;TZID=America/Chicago:20240725T111500
DTSTAMP:20260421T171114
CREATED:20240529T160326Z
LAST-MODIFIED:20240529T160326Z
UID:10000380-1721903400-1721906100@www.morrismntourism.com
SUMMARY:10:30 am | Weekly Storytime on the Lawn
DESCRIPTION:Join us every Thursday at 10:30 AM for Weekly Story Time on the library lawn! Bring your lawn chairs or blankets and enjoy enchanting stories read by community members like the Girl Scouts\, Miss Morris Area Teen Anna Jordan\, Sandy from Open Prairie Alpacas\, the Odellos\, Bus Driver Syd\, and Mike Peterson from St. John’s Abbey with his flutes. It’s a delightful morning for all ages to enjoy stories and community spirit!
URL:https://www.morrismntourism.com/event/1030-am-weekly-storytime-on-the-lawn/2024-07-25/
LOCATION:Morris Public Library\, 102 E 6th St\, Morris\, MN\, 56267\, United States
CATEGORIES:2024
ATTACH;FMTTYPE=image/jpeg:https://www.morrismntourism.com/wp-content/uploads/444151314_866510748842795_4873132500077089525_n.jpg
END:VEVENT
BEGIN:VEVENT
DTSTART;TZID=America/Chicago:20240725T160000
DTEND;TZID=America/Chicago:20240725T200000
DTSTAMP:20260421T171114
CREATED:20240508T214841Z
LAST-MODIFIED:20240508T214841Z
UID:10000364-1721923200-1721937600@www.morrismntourism.com
SUMMARY:July 25 | 4 pm | Horticulture Night
DESCRIPTION:Horticulture Night at the West Central Research and Outreach Center\nEnjoy an interactive garden event with horticulture demonstrations and expert hands-on gardening topics. Keynote presentation on home gardening and talks on pollinator habitats\, container gardening\, garden diseases and more. Browse through the educational and vendor area and be inspired by the beauty of the garden! Live music\, food booths and WCROC farm tours are also part of the event.
URL:https://www.morrismntourism.com/event/july-25-4-pm-horticulture-night/
LOCATION:MN
CATEGORIES:2024
ATTACH;FMTTYPE=image/png:https://www.morrismntourism.com/wp-content/uploads/Morris-Horticulture-Night-Blog-1.png
END:VEVENT
BEGIN:VEVENT
DTSTART;TZID=America/Chicago:20240726T130000
DTEND;TZID=America/Chicago:20240726T150000
DTSTAMP:20260421T171114
CREATED:20240606T194410Z
LAST-MODIFIED:20240606T194410Z
UID:10000384-1721998800-1722006000@www.morrismntourism.com
SUMMARY:Family Movie Matinees
DESCRIPTION:Join us for family-friendly movie afternoons at the Morris Public Library!\nOn select Fridays—June 7th\, 21st\, and July 12th\, 26th—from 1 to 3 pm\, enjoy G or PG-rated films suitable for all ages. Popcorn and drinks are on us\, thanks to The Friends of the Morris Public Library. Call or check our website for movie titles. Don’t miss out on these fun-filled Fridays!
URL:https://www.morrismntourism.com/event/family-movie-matinees/2024-07-26/
LOCATION:Morris Public Library\, 102 E 6th St\, Morris\, MN\, 56267\, United States
CATEGORIES:2024
ATTACH;FMTTYPE=image/png:https://www.morrismntourism.com/wp-content/uploads/Untitled-design-11.png
END:VEVENT
BEGIN:VEVENT
DTSTART;TZID=America/Chicago:20240731T080000
DTEND;TZID=America/Chicago:20240731T200000
DTSTAMP:20260421T171114
CREATED:20240411T174842Z
LAST-MODIFIED:20240618T132703Z
UID:10000361-1722412800-1722456000@www.morrismntourism.com
SUMMARY:July 31 | Crazy Days | Lazy Nights
DESCRIPTION:Mark your calendars for a day (and evening) of shopping\, food and fun in Morris!\n\n\n\n\nGet ready for Crazy Days Lazy Nights in Morris\, MN\, on July 31\, 2024! This all-day event kicks off at 7 AM with crazy retail sales throughout town. From 10 AM to 1 PM\, join the Medallion Hunt and Coin Dig\, and enjoy kids’ crafts and tables. The food court opens from 11 AM to 2 PM with food trucks on 6th St. At 2 PM\, catch a free movie at Morris Theater. The fun continues from 5 PM to 7 PM at East Side Park with live music\, food trucks\, and kids’ activities\, followed by Minute to Win It games at 6 PM. Don’t miss out on the excitement!
URL:https://www.morrismntourism.com/event/july-31-crazy-days-lazy-nights/
LOCATION:MN
CATEGORIES:2024
ATTACH;FMTTYPE=image/png:https://www.morrismntourism.com/wp-content/uploads/Screenshot-2024-06-18-at-8.24.35 AM.png
END:VEVENT
END:VCALENDAR